Package: CTDquerier Version: 2.18.0 Command: /home/biocbuild/bbs-3.22-bioc/R/bin/R CMD build --keep-empty-dirs --no-resave-data --md5 CTDquerier StartedAt: 2025-11-11 17:10:32 -0500 (Tue, 11 Nov 2025) EndedAt: 2025-11-11 17:10:35 -0500 (Tue, 11 Nov 2025) EllapsedTime: 3.0 seconds RetCode: 0 Status: OK PackageFile: CTDquerier_2.18.0.tar.gz PackageFileSize: 2.805 MiB