Package: CTDquerier Version: 2.16.0 Command: /home/biocbuild/bbs-3.21-bioc/R/bin/R CMD INSTALL CTDquerier StartedAt: 2025-10-15 15:14:11 -0400 (Wed, 15 Oct 2025) EndedAt: 2025-10-15 15:14:18 -0400 (Wed, 15 Oct 2025) EllapsedTime: 7.6 seconds RetCode: 0 Status: OK