Package: CTDquerier Version: 2.16.0 Command: /home/biocbuild/bbs-3.21-bioc/R/bin/R CMD build --keep-empty-dirs --no-resave-data CTDquerier StartedAt: 2025-10-15 17:00:04 -0400 (Wed, 15 Oct 2025) EndedAt: 2025-10-15 17:00:07 -0400 (Wed, 15 Oct 2025) EllapsedTime: 3.0 seconds RetCode: 0 Status: OK PackageFile: CTDquerier_2.16.0.tar.gz PackageFileSize: 2.803 MiB