Package: CTDquerier Version: 2.16.0 Command: /home/biocbuild/R/R/bin/R CMD INSTALL CTDquerier StartedAt: 2025-09-25 20:27:15 -0000 (Thu, 25 Sep 2025) EndedAt: 2025-09-25 20:27:27 -0000 (Thu, 25 Sep 2025) EllapsedTime: 12.8 seconds RetCode: 0 Status: OK