Package: CTDquerier Version: 2.16.0 Command: /Library/Frameworks/R.framework/Resources/bin/R CMD INSTALL CTDquerier StartedAt: 2025-10-13 17:55:54 -0400 (Mon, 13 Oct 2025) EndedAt: 2025-10-13 17:56:04 -0400 (Mon, 13 Oct 2025) EllapsedTime: 9.3 seconds RetCode: 0 Status: OK