Package: CSSQ Version: 1.22.0 Command: /home/biocbuild/R/R/bin/R CMD INSTALL CSSQ StartedAt: 2025-11-13 21:47:04 -0000 (Thu, 13 Nov 2025) EndedAt: 2025-11-13 21:47:50 -0000 (Thu, 13 Nov 2025) EllapsedTime: 46.7 seconds RetCode: 0 Status: OK