Package: CSSQ Version: 1.22.0 Command: /home/biocbuild/R/R/bin/R CMD check --install=check:CSSQ.install-out.txt --library=/home/biocbuild/R/R/site-library --no-vignettes --timings CSSQ_1.22.0.tar.gz StartedAt: 2025-11-14 08:24:56 -0000 (Fri, 14 Nov 2025) EndedAt: 2025-11-14 08:30:15 -0000 (Fri, 14 Nov 2025) EllapsedTime: 319.2 seconds RetCode: 0 Status: OK CheckDir: CSSQ.Rcheck Warnings: 0