Package: CSSQ Version: 1.22.0 Command: /home/biocbuild/bbs-3.22-bioc/R/bin/R CMD INSTALL CSSQ StartedAt: 2025-11-13 15:39:30 -0500 (Thu, 13 Nov 2025) EndedAt: 2025-11-13 15:40:07 -0500 (Thu, 13 Nov 2025) EllapsedTime: 37.6 seconds RetCode: 0 Status: OK