Package: CSSQ Version: 1.20.0 Command: /home/biocbuild/bbs-3.21-bioc/R/bin/R CMD INSTALL CSSQ StartedAt: 2025-09-28 15:53:28 -0400 (Sun, 28 Sep 2025) EndedAt: 2025-09-28 15:54:05 -0400 (Sun, 28 Sep 2025) EllapsedTime: 37.1 seconds RetCode: 0 Status: OK