Package: CSSQ Version: 1.20.0 Command: /home/biocbuild/bbs-3.21-bioc/R/bin/R CMD check --install=check:CSSQ.install-out.txt --library=/home/biocbuild/bbs-3.21-bioc/R/site-library --timings CSSQ_1.20.0.tar.gz StartedAt: 2025-10-15 22:11:01 -0400 (Wed, 15 Oct 2025) EndedAt: 2025-10-15 22:15:37 -0400 (Wed, 15 Oct 2025) EllapsedTime: 275.3 seconds RetCode: 0 Status: OK CheckDir: CSSQ.Rcheck Warnings: 0