Package: CSSQ Version: 1.20.0 Command: /home/biocbuild/bbs-3.21-bioc/R/bin/R CMD build --keep-empty-dirs --no-resave-data CSSQ StartedAt: 2025-09-28 17:14:26 -0400 (Sun, 28 Sep 2025) EndedAt: 2025-09-28 17:15:24 -0400 (Sun, 28 Sep 2025) EllapsedTime: 58.1 seconds RetCode: 0 Status: OK PackageFile: CSSQ_1.20.0.tar.gz PackageFileSize: 866.4 KiB