Package: CSSQ Version: 1.20.0 Command: /home/biocbuild/R/R/bin/R CMD check --install=check:CSSQ.install-out.txt --library=/home/biocbuild/R/R/site-library --no-vignettes --timings CSSQ_1.20.0.tar.gz StartedAt: 2025-10-07 08:11:59 -0000 (Tue, 07 Oct 2025) EndedAt: 2025-10-07 08:17:30 -0000 (Tue, 07 Oct 2025) EllapsedTime: 331.2 seconds RetCode: 0 Status: OK CheckDir: CSSQ.Rcheck Warnings: 0