Package: CSSQ Version: 1.20.0 Command: /Library/Frameworks/R.framework/Resources/bin/R CMD check --install=check:CSSQ.install-out.txt --library=/Library/Frameworks/R.framework/Resources/library --no-vignettes --timings CSSQ_1.20.0.tar.gz StartedAt: 2025-10-14 18:05:02 -0400 (Tue, 14 Oct 2025) EndedAt: 2025-10-14 18:10:43 -0400 (Tue, 14 Oct 2025) EllapsedTime: 340.9 seconds RetCode: 0 Status: OK CheckDir: CSSQ.Rcheck Warnings: 0