Package: CSOA Version: 1.0.0 Command: /home/biocbuild/bbs-3.22-bioc/R/bin/R CMD INSTALL CSOA StartedAt: 2025-11-11 15:21:27 -0500 (Tue, 11 Nov 2025) EndedAt: 2025-11-11 15:22:03 -0500 (Tue, 11 Nov 2025) EllapsedTime: 35.8 seconds RetCode: 0 Status: OK