Package: CSOA Version: 1.0.0 Command: /home/biocbuild/bbs-3.22-bioc/R/bin/R CMD check --install=check:CSOA.install-out.txt --library=/home/biocbuild/bbs-3.22-bioc/R/site-library --timings CSOA_1.0.0.tar.gz StartedAt: 2025-11-11 22:39:42 -0500 (Tue, 11 Nov 2025) EndedAt: 2025-11-11 22:47:44 -0500 (Tue, 11 Nov 2025) EllapsedTime: 482.4 seconds RetCode: 0 Status: OK CheckDir: CSOA.Rcheck Warnings: 0