Package: CSOA Version: 1.0.0 Command: /Library/Frameworks/R.framework/Resources/bin/R CMD INSTALL CSOA StartedAt: 2025-11-10 15:11:12 -0500 (Mon, 10 Nov 2025) EndedAt: 2025-11-10 15:11:27 -0500 (Mon, 10 Nov 2025) EllapsedTime: 15.5 seconds RetCode: 0 Status: OK