Package: CSAR Version: 1.62.0 Command: /home/biocbuild/bbs-3.22-bioc/R/bin/R CMD INSTALL CSAR StartedAt: 2025-11-11 16:03:49 -0500 (Tue, 11 Nov 2025) EndedAt: 2025-11-11 16:03:58 -0500 (Tue, 11 Nov 2025) EllapsedTime: 8.2 seconds RetCode: 0 Status: OK