Package: CSAR Version: 1.62.0 Command: /home/biocbuild/bbs-3.22-bioc/R/bin/R CMD check --install=check:CSAR.install-out.txt --library=/home/biocbuild/bbs-3.22-bioc/R/site-library --timings CSAR_1.62.0.tar.gz StartedAt: 2025-11-11 22:39:11 -0500 (Tue, 11 Nov 2025) EndedAt: 2025-11-11 22:41:27 -0500 (Tue, 11 Nov 2025) EllapsedTime: 136.1 seconds RetCode: 0 Status: OK CheckDir: CSAR.Rcheck Warnings: 0