Package: CRImage Version: 1.58.0 Command: /home/biocbuild/R/R/bin/R CMD INSTALL CRImage StartedAt: 2025-11-10 21:18:13 -0000 (Mon, 10 Nov 2025) EndedAt: 2025-11-10 21:18:29 -0000 (Mon, 10 Nov 2025) EllapsedTime: 15.6 seconds RetCode: 0 Status: OK