Package: CRImage Version: 1.58.0 Command: /home/biocbuild/R/R/bin/R CMD build --keep-empty-dirs --no-resave-data CRImage StartedAt: 2025-11-11 00:47:37 -0000 (Tue, 11 Nov 2025) EndedAt: 2025-11-11 00:48:17 -0000 (Tue, 11 Nov 2025) EllapsedTime: 40.0 seconds RetCode: 0 Status: OK PackageFile: CRImage_1.58.0.tar.gz PackageFileSize: 7.644 MiB