Package: CRImage Version: 1.58.0 Command: /home/biocbuild/bbs-3.22-bioc/R/bin/R CMD INSTALL CRImage StartedAt: 2025-11-11 15:16:42 -0500 (Tue, 11 Nov 2025) EndedAt: 2025-11-11 15:16:52 -0500 (Tue, 11 Nov 2025) EllapsedTime: 10.4 seconds RetCode: 0 Status: OK