Package: CRImage Version: 1.58.0 Command: /home/biocbuild/bbs-3.22-bioc/R/bin/R CMD check --install=check:CRImage.install-out.txt --library=/home/biocbuild/bbs-3.22-bioc/R/site-library --timings CRImage_1.58.0.tar.gz StartedAt: 2025-11-13 22:33:54 -0500 (Thu, 13 Nov 2025) EndedAt: 2025-11-13 22:35:18 -0500 (Thu, 13 Nov 2025) EllapsedTime: 84.1 seconds RetCode: 0 Status: OK CheckDir: CRImage.Rcheck Warnings: 0