Package: CRImage Version: 1.58.0 Command: /home/biocbuild/bbs-3.22-bioc/R/bin/R CMD build --keep-empty-dirs --no-resave-data --md5 CRImage StartedAt: 2025-11-11 17:07:20 -0500 (Tue, 11 Nov 2025) EndedAt: 2025-11-11 17:07:42 -0500 (Tue, 11 Nov 2025) EllapsedTime: 22.0 seconds RetCode: 0 Status: OK PackageFile: CRImage_1.58.0.tar.gz PackageFileSize: 7.657 MiB