Package: CRImage Version: 1.56.0 Command: /Library/Frameworks/R.framework/Resources/bin/R CMD INSTALL CRImage StartedAt: 2025-10-09 15:20:07 -0400 (Thu, 09 Oct 2025) EndedAt: 2025-10-09 15:20:30 -0400 (Thu, 09 Oct 2025) EllapsedTime: 23.4 seconds RetCode: 0 Status: OK