Package: CRISPRseek Version: 1.50.0 Command: /home/biocbuild/bbs-3.22-bioc/R/bin/R CMD INSTALL CRISPRseek StartedAt: 2025-11-11 15:44:02 -0500 (Tue, 11 Nov 2025) EndedAt: 2025-11-11 15:44:44 -0500 (Tue, 11 Nov 2025) EllapsedTime: 41.6 seconds RetCode: 0 Status: OK