Package: CRISPRseek Version: 1.50.0 Command: /home/biocbuild/bbs-3.22-bioc/R/bin/R CMD build --keep-empty-dirs --no-resave-data --md5 CRISPRseek StartedAt: 2025-11-11 17:08:08 -0500 (Tue, 11 Nov 2025) EndedAt: 2025-11-11 17:10:32 -0500 (Tue, 11 Nov 2025) EllapsedTime: 144.1 seconds RetCode: 0 Status: OK PackageFile: CRISPRseek_1.50.0.tar.gz PackageFileSize: 11.84 MiB