Package: CRISPRseek Version: 1.50.0 Command: /Library/Frameworks/R.framework/Resources/bin/R CMD build --keep-empty-dirs --no-resave-data CRISPRseek StartedAt: 2025-11-03 16:37:14 -0500 (Mon, 03 Nov 2025) EndedAt: 2025-11-03 16:40:02 -0500 (Mon, 03 Nov 2025) EllapsedTime: 168.0 seconds RetCode: 0 Status: OK PackageFile: CRISPRseek_1.50.0.tar.gz PackageFileSize: 11.83 MiB