Package: CRISPRseek Version: 1.50.0 Command: rm -rf CRISPRseek.buildbin-libdir && mkdir CRISPRseek.buildbin-libdir && /Users/biocbuild/BBS/utils/build-universal.sh CRISPRseek_1.50.0.tar.gz /Library/Frameworks/R.framework/Resources/bin/R CRISPRseek.buildbin-libdir StartedAt: 2025-11-04 01:34:52 -0500 (Tue, 04 Nov 2025) EndedAt: 2025-11-04 01:35:55 -0500 (Tue, 04 Nov 2025) EllapsedTime: 62.8 seconds RetCode: 0 Status: OK PackageFile: CRISPRseek_1.50.0.tgz PackageFileSize: 12.11 MiB