Package: CRISPRseek Version: 1.48.0 Command: /home/biocbuild/R/R/bin/R CMD INSTALL CRISPRseek StartedAt: 2025-10-13 20:54:12 -0000 (Mon, 13 Oct 2025) EndedAt: 2025-10-13 20:55:12 -0000 (Mon, 13 Oct 2025) EllapsedTime: 59.4 seconds RetCode: 0 Status: OK