Package: CRISPRseek Version: 1.48.0 Command: /home/biocbuild/R/R/bin/R CMD build --keep-empty-dirs --no-resave-data CRISPRseek StartedAt: 2025-10-13 23:55:47 -0000 (Mon, 13 Oct 2025) EndedAt: 2025-10-13 23:59:07 -0000 (Mon, 13 Oct 2025) EllapsedTime: 200.1 seconds RetCode: 0 Status: OK PackageFile: CRISPRseek_1.48.0.tar.gz PackageFileSize: 11.91 MiB