Package: CRISPRseek Version: 1.50.0 Command: /Library/Frameworks/R.framework/Resources/bin/R CMD INSTALL CRISPRseek StartedAt: 2025-11-20 18:05:55 -0500 (Thu, 20 Nov 2025) EndedAt: 2025-11-20 18:06:43 -0500 (Thu, 20 Nov 2025) EllapsedTime: 47.9 seconds RetCode: 0 Status: OK