Package: CRISPRseek Version: 1.50.0 Command: /Library/Frameworks/R.framework/Resources/bin/R CMD build --keep-empty-dirs --no-resave-data CRISPRseek StartedAt: 2025-11-20 22:58:31 -0500 (Thu, 20 Nov 2025) EndedAt: 2025-11-20 23:02:09 -0500 (Thu, 20 Nov 2025) EllapsedTime: 217.4 seconds RetCode: 0 Status: OK PackageFile: CRISPRseek_1.50.0.tar.gz PackageFileSize: 11.83 MiB