Package: CRISPRball Version: 1.6.0 Command: /Library/Frameworks/R.framework/Resources/bin/R CMD INSTALL CRISPRball StartedAt: 2025-11-03 15:52:23 -0500 (Mon, 03 Nov 2025) EndedAt: 2025-11-03 15:53:11 -0500 (Mon, 03 Nov 2025) EllapsedTime: 47.9 seconds RetCode: 0 Status: OK