Package: CPSM Version: 1.2.0 Command: /home/biocbuild/R/R/bin/R CMD INSTALL CPSM StartedAt: 2025-11-10 21:41:39 -0000 (Mon, 10 Nov 2025) EndedAt: 2025-11-10 21:42:25 -0000 (Mon, 10 Nov 2025) EllapsedTime: 46.6 seconds RetCode: 0 Status: OK