Package: CPSM Version: 1.2.0 Command: /home/biocbuild/R/R/bin/R CMD build --keep-empty-dirs --no-resave-data CPSM StartedAt: 2025-11-14 00:54:13 -0000 (Fri, 14 Nov 2025) EndedAt: 2025-11-14 00:58:22 -0000 (Fri, 14 Nov 2025) EllapsedTime: 249.1 seconds RetCode: 0 Status: OK PackageFile: CPSM_1.2.0.tar.gz PackageFileSize: 3.871 MiB