Package: CPSM Version: 1.2.0 Command: /home/biocbuild/bbs-3.22-bioc/R/bin/R CMD INSTALL CPSM StartedAt: 2025-11-13 15:35:29 -0500 (Thu, 13 Nov 2025) EndedAt: 2025-11-13 15:36:05 -0500 (Thu, 13 Nov 2025) EllapsedTime: 35.4 seconds RetCode: 0 Status: OK