Package: CPSM Version: 1.2.0 Command: /home/biocbuild/bbs-3.22-bioc/R/bin/R CMD check --install=check:CPSM.install-out.txt --library=/home/biocbuild/bbs-3.22-bioc/R/site-library --timings CPSM_1.2.0.tar.gz StartedAt: 2025-11-13 22:33:11 -0500 (Thu, 13 Nov 2025) EndedAt: 2025-11-13 22:40:50 -0500 (Thu, 13 Nov 2025) EllapsedTime: 459.4 seconds RetCode: 0 Status: OK CheckDir: CPSM.Rcheck Warnings: 0