Package: CPSM Version: 1.2.0 Command: /home/biocbuild/bbs-3.22-bioc/R/bin/R CMD build --keep-empty-dirs --no-resave-data --md5 CPSM StartedAt: 2025-11-14 17:04:59 -0500 (Fri, 14 Nov 2025) EndedAt: 2025-11-14 17:07:37 -0500 (Fri, 14 Nov 2025) EllapsedTime: 158.1 seconds RetCode: 0 Status: OK PackageFile: CPSM_1.2.0.tar.gz PackageFileSize: 4.362 MiB