Package: CPSM Version: 1.0.0 Command: /Library/Frameworks/R.framework/Resources/bin/R CMD INSTALL CPSM StartedAt: 2025-09-25 16:58:42 -0400 (Thu, 25 Sep 2025) EndedAt: 2025-09-25 16:59:18 -0400 (Thu, 25 Sep 2025) EllapsedTime: 35.8 seconds RetCode: 0 Status: OK