Package: COTAN Version: 2.10.0 Command: /Library/Frameworks/R.framework/Resources/bin/R CMD INSTALL COTAN StartedAt: 2025-11-06 15:28:57 -0500 (Thu, 06 Nov 2025) EndedAt: 2025-11-06 15:29:16 -0500 (Thu, 06 Nov 2025) EllapsedTime: 18.6 seconds RetCode: 0 Status: OK