Package: COTAN Version: 2.10.0 Command: /Library/Frameworks/R.framework/Resources/bin/R CMD build --keep-empty-dirs --no-resave-data COTAN StartedAt: 2025-11-06 16:02:10 -0500 (Thu, 06 Nov 2025) EndedAt: 2025-11-06 16:07:19 -0500 (Thu, 06 Nov 2025) EllapsedTime: 308.4 seconds RetCode: 0 Status: OK PackageFile: COTAN_2.10.0.tar.gz PackageFileSize: 4.106 MiB