Package: COTAN Version: 2.10.0 Command: rm -rf COTAN.buildbin-libdir && mkdir COTAN.buildbin-libdir && /Users/biocbuild/BBS/utils/build-universal.sh COTAN_2.10.0.tar.gz /Library/Frameworks/R.framework/Resources/bin/R COTAN.buildbin-libdir StartedAt: 2025-11-06 23:00:59 -0500 (Thu, 06 Nov 2025) EndedAt: 2025-11-06 23:01:20 -0500 (Thu, 06 Nov 2025) EllapsedTime: 21.4 seconds RetCode: 0 Status: OK PackageFile: COTAN_2.10.0.tgz PackageFileSize: 4.691 MiB