Package: COSNet Version: 1.44.0 Command: /home/biocbuild/R/R/bin/R CMD INSTALL COSNet StartedAt: 2025-11-10 21:10:22 -0000 (Mon, 10 Nov 2025) EndedAt: 2025-11-10 21:11:03 -0000 (Mon, 10 Nov 2025) EllapsedTime: 41.6 seconds RetCode: 0 Status: OK