Package: COSNet Version: 1.44.0 Command: /home/biocbuild/R/R/bin/R CMD build --keep-empty-dirs --no-resave-data COSNet StartedAt: 2025-11-11 00:45:51 -0000 (Tue, 11 Nov 2025) EndedAt: 2025-11-11 00:51:20 -0000 (Tue, 11 Nov 2025) EllapsedTime: 328.5 seconds RetCode: 0 Status: OK PackageFile: COSNet_1.44.0.tar.gz PackageFileSize: 503 KiB