Package: COSNet Version: 1.42.0 Command: rm -rf COSNet.buildbin-libdir && mkdir COSNet.buildbin-libdir && E:\biocbuild\bbs-3.21-bioc\R\bin\R.exe CMD INSTALL --build --library=COSNet.buildbin-libdir COSNet_1.42.0.tar.gz StartedAt: 2025-08-15 09:03:51 -0400 (Fri, 15 Aug 2025) EndedAt: 2025-08-15 09:04:02 -0400 (Fri, 15 Aug 2025) EllapsedTime: 11.0 seconds RetCode: 0 Status: OK PackageFile: COSNet_1.42.0.zip PackageFileSize: 331.8 KiB