Package: COSNet Version: 1.44.0 Command: /home/biocbuild/bbs-3.22-bioc/R/bin/R CMD check --install=check:COSNet.install-out.txt --library=/home/biocbuild/bbs-3.22-bioc/R/site-library --timings COSNet_1.44.0.tar.gz StartedAt: 2025-11-11 22:32:50 -0500 (Tue, 11 Nov 2025) EndedAt: 2025-11-11 22:37:39 -0500 (Tue, 11 Nov 2025) EllapsedTime: 288.2 seconds RetCode: 0 Status: WARNINGS CheckDir: COSNet.Rcheck Warnings: 1