Package: COSNet Version: 1.44.0 Command: /home/biocbuild/bbs-3.22-bioc/R/bin/R CMD build --keep-empty-dirs --no-resave-data --md5 COSNet StartedAt: 2025-11-11 17:06:00 -0500 (Tue, 11 Nov 2025) EndedAt: 2025-11-11 17:10:23 -0500 (Tue, 11 Nov 2025) EllapsedTime: 263.2 seconds RetCode: 0 Status: OK PackageFile: COSNet_1.44.0.tar.gz PackageFileSize: 521.5 KiB