Package: CONSTANd Version: 1.18.0 Command: /Library/Frameworks/R.framework/Resources/bin/R CMD INSTALL CONSTANd StartedAt: 2025-11-03 15:08:55 -0500 (Mon, 03 Nov 2025) EndedAt: 2025-11-03 15:09:12 -0500 (Mon, 03 Nov 2025) EllapsedTime: 17.3 seconds RetCode: 0 Status: OK