Package: CONSTANd Version: 1.18.0 Command: /Library/Frameworks/R.framework/Resources/bin/R CMD build --keep-empty-dirs --no-resave-data CONSTANd StartedAt: 2025-11-03 16:34:22 -0500 (Mon, 03 Nov 2025) EndedAt: 2025-11-03 16:34:36 -0500 (Mon, 03 Nov 2025) EllapsedTime: 13.7 seconds RetCode: 0 Status: OK PackageFile: CONSTANd_1.18.0.tar.gz PackageFileSize: 1.696 MiB