Package: CONSTANd Version: 1.16.0 Command: /home/biocbuild/R/R/bin/R CMD INSTALL CONSTANd StartedAt: 2025-10-13 20:12:20 -0000 (Mon, 13 Oct 2025) EndedAt: 2025-10-13 20:12:29 -0000 (Mon, 13 Oct 2025) EllapsedTime: 9.5 seconds RetCode: 0 Status: OK